BEGIN:VCALENDAR
VERSION:2.0
PRODID:-// - ECPv6.3.0//NONSGML v1.0//EN
CALSCALE:GREGORIAN
METHOD:PUBLISH
X-ORIGINAL-URL:https://old.lagreu.net
X-WR-CALDESC:évènements pour 
REFRESH-INTERVAL;VALUE=DURATION:PT1H
X-Robots-Tag:noindex
X-PUBLISHED-TTL:PT1H
BEGIN:VTIMEZONE
TZID:Europe/Zurich
BEGIN:DAYLIGHT
TZOFFSETFROM:+0100
TZOFFSETTO:+0200
TZNAME:CEST
DTSTART:20240331T010000
END:DAYLIGHT
BEGIN:STANDARD
TZOFFSETFROM:+0200
TZOFFSETTO:+0100
TZNAME:CET
DTSTART:20241027T010000
END:STANDARD
END:VTIMEZONE
BEGIN:VEVENT
DTSTART;VALUE=DATE:20240112
DTEND;VALUE=DATE:20240113
DTSTAMP:20260423T005247
CREATED:20240122T221303Z
LAST-MODIFIED:20240128T225615Z
UID:28883-1705039200-1705039200@old.lagreu.net
SUMMARY:01.24 : Mathilde Veuthey
DESCRIPTION:TWISTED BLOOM par Mathilde Veuthey \nUne exploration dans les méandres d’une réalité voilée\, un malaise dissimulé sous la surface chatoyante\, invitant à une contemplation mystérieuse sur la véritable essence des apparences euphoriques. \n\n\n\n\n\n 
URL:https://old.lagreu.net/evenement/28883/
CATEGORIES:EXPOSITION
ATTACH;FMTTYPE=image/jpeg:https://old.lagreu.net/wp-content/uploads/2024/01/2-scaled-e1706477130288.jpg
END:VEVENT
BEGIN:VEVENT
DTSTART;TZID=Europe/Zurich:20240209T200000
DTEND;TZID=Europe/Zurich:20240210T040000
DTSTAMP:20260423T005247
CREATED:20240123T184436Z
LAST-MODIFIED:20240206T172823Z
UID:28975-1707508800-1707537600@old.lagreu.net
SUMMARY:CARNAVAL
DESCRIPTION:DJ set : OPÉRATION MACONDO
URL:https://old.lagreu.net/evenement/carnaval/
CATEGORIES:MUSIQUE
ATTACH;FMTTYPE=image/jpeg:https://old.lagreu.net/wp-content/uploads/2024/01/PXL_20240205_1530572192-scaled.jpg
END:VEVENT
END:VCALENDAR