BEGIN:VCALENDAR
VERSION:2.0
PRODID:-// - ECPv6.3.0//NONSGML v1.0//EN
CALSCALE:GREGORIAN
METHOD:PUBLISH
X-ORIGINAL-URL:https://old.lagreu.net
X-WR-CALDESC:évènements pour 
REFRESH-INTERVAL;VALUE=DURATION:PT1H
X-Robots-Tag:noindex
X-PUBLISHED-TTL:PT1H
BEGIN:VTIMEZONE
TZID:Europe/Zurich
BEGIN:DAYLIGHT
TZOFFSETFROM:+0100
TZOFFSETTO:+0200
TZNAME:CEST
DTSTART:20240331T010000
END:DAYLIGHT
BEGIN:STANDARD
TZOFFSETFROM:+0200
TZOFFSETTO:+0100
TZNAME:CET
DTSTART:20241027T010000
END:STANDARD
END:VTIMEZONE
BEGIN:VEVENT
DTSTART;TZID=Europe/Zurich:20240303T180000
DTEND;TZID=Europe/Zurich:20240304T000000
DTSTAMP:20260422T155122
CREATED:20240206T182538Z
LAST-MODIFIED:20240206T183516Z
UID:29246-1709488800-1709510400@old.lagreu.net
SUMMARY:SOUPE
DESCRIPTION:Chaque dimanche soir\, une âme bienveillante offre la soupe aux clients du Grand Café de la Grenette.
URL:https://old.lagreu.net/evenement/soupe-3/
ATTACH;FMTTYPE=image/jpeg:https://old.lagreu.net/wp-content/uploads/2024/02/telechargement-1-1.jpeg
END:VEVENT
BEGIN:VEVENT
DTSTART;TZID=Europe/Zurich:20240310T180000
DTEND;TZID=Europe/Zurich:20240311T000000
DTSTAMP:20260422T155122
CREATED:20240206T182859Z
LAST-MODIFIED:20240206T183531Z
UID:29248-1710093600-1710115200@old.lagreu.net
SUMMARY:SOUPE
DESCRIPTION:Chaque dimanche soir\, une âme bienveillante offre la soupe aux clients du Grand Café de la Grenette.
URL:https://old.lagreu.net/evenement/soupe-4/
ATTACH;FMTTYPE=image/jpeg:https://old.lagreu.net/wp-content/uploads/2024/02/telechargement-1-1.jpeg
END:VEVENT
BEGIN:VEVENT
DTSTART;TZID=Europe/Zurich:20240317T180000
DTEND;TZID=Europe/Zurich:20240318T000000
DTSTAMP:20260422T155122
CREATED:20240206T183240Z
LAST-MODIFIED:20240206T183240Z
UID:29250-1710698400-1710720000@old.lagreu.net
SUMMARY:SOUPE
DESCRIPTION:Chaque dimanche soir\, une âme bienveillante offre la soupe aux clients du Grand Café de la Grenette.
URL:https://old.lagreu.net/evenement/soupe-5/
ATTACH;FMTTYPE=image/jpeg:https://old.lagreu.net/wp-content/uploads/2024/02/telechargement-1-1.jpeg
END:VEVENT
BEGIN:VEVENT
DTSTART;TZID=Europe/Zurich:20240324T180000
DTEND;TZID=Europe/Zurich:20240325T000000
DTSTAMP:20260422T155122
CREATED:20240206T183711Z
LAST-MODIFIED:20240206T183711Z
UID:29255-1711303200-1711324800@old.lagreu.net
SUMMARY:SOUPE
DESCRIPTION:Chaque dimanche soir\, une âme bienveillante offre la soupe aux clients du Grand Café de la Grenette.
URL:https://old.lagreu.net/evenement/soupe-6/
ATTACH;FMTTYPE=image/jpeg:https://old.lagreu.net/wp-content/uploads/2024/02/telechargement-1-1.jpeg
END:VEVENT
BEGIN:VEVENT
DTSTART;TZID=Europe/Zurich:20240331T180000
DTEND;TZID=Europe/Zurich:20240401T000000
DTSTAMP:20260422T155122
CREATED:20240206T183819Z
LAST-MODIFIED:20240206T183819Z
UID:29257-1711908000-1711929600@old.lagreu.net
SUMMARY:SOUPE
DESCRIPTION:Chaque dimanche soir\, une âme bienveillante offre la soupe aux clients du Grand Café de la Grenette.
URL:https://old.lagreu.net/evenement/soupe-7/
ATTACH;FMTTYPE=image/jpeg:https://old.lagreu.net/wp-content/uploads/2024/02/telechargement-1-1.jpeg
END:VEVENT
END:VCALENDAR